BEGIN:VCALENDAR
PRODID:-//Dr. Thomas Wagner\, TUM WWW & Online Services//myTUM Advanced Calendaring 0.1//DE
VERSION:2.0
METHOD:GET
BEGIN:VTIMEZONE
TZID:Europe/Berlin
BEGIN:STANDARD
DTSTART:20071028T010000
TZOFFSETTO:+0100
TZOFFSETFROM:+0000
TZNAME:CET
END:STANDARD
BEGIN:DAYLIGHT
TZOFFSETTO:+0200
TZOFFSETFROM:+0100
TZNAME:CEST
DTSTART:20080330T020000
END:DAYLIGHT
END:VTIMEZONE
BEGIN:VEVENT
SEQUENCE:1
TRANSP:OPAQUE
UID:termine_Event.2009-04-20.8118130624_portal.mytum.de
DTSTART;TZID=Europe/Berlin:20090428T171500
ORGANIZER;CN="Stephan Schmitz":mailto:stephan.schmitz@mytum.de
DTSTAMP:20260422T223906
LAST-MODIFIED:20090420T081055
CATEGORIES:VORTRAG
SUMMARY:Adolf Hurwitz - Leben und Werk
LOCATION:Garching, Zentrum Mathematik, MI HS 3
CLASS:PUBLIC
URL;VALUE=URL:https://portal.mytum.de/termine/Event.2009-04-20.8118130624
CREATED:20090420T081041
DTEND;TZID=Europe/Berlin:20090428T184500
END:VEVENT
END:VCALENDAR
