BEGIN:VCALENDAR
PRODID:-//Dr. Thomas Wagner\, TUM WWW & Online Services//myTUM Advanced Calendaring 0.1//DE
VERSION:2.0
METHOD:GET
BEGIN:VTIMEZONE
TZID:Europe/Berlin
BEGIN:STANDARD
DTSTART:20071028T010000
TZOFFSETTO:+0100
TZOFFSETFROM:+0000
TZNAME:CET
END:STANDARD
BEGIN:DAYLIGHT
TZOFFSETTO:+0200
TZOFFSETFROM:+0100
TZNAME:CEST
DTSTART:20080330T020000
END:DAYLIGHT
END:VTIMEZONE
BEGIN:VEVENT
SEQUENCE:1
TRANSP:OPAQUE
UID:termine_Event.2009-02-09.7204687135_portal.mytum.de
DTSTART;TZID=Europe/Berlin:20090219T190000
ORGANIZER;CN="Bernhard Lichtinger":mailto:bernhard.lichtinger@tum.de
DTSTAMP:20260422T165728
LAST-MODIFIED:20090209T174944
CATEGORIES:VORTRAG
SUMMARY:Neues von Viren, Würmern und Trojanern
DESCRIPTION:Conficker, Downaup zeigen es: die Zeit der massenhaften Verbreitung von Schadsoftware ist noch lange nicht vorbei. Wie funktionieren aktuelle Angriffe? Doch warum hat man so lange nichts mehr gehört? Wie funktionieren die aktuellen Abwehrmechanismen? Wie kann man sich effektiv schützen? Dies und mehr beantwortet Marcus Rapp von Antiviren-Software-Hersteller F-Secure.
LOCATION:N1080
CLASS:PUBLIC
URL;VALUE=URL:https://portal.mytum.de/termine/Event.2009-02-09.7204687135
ATTACH;VALUE=URI:http://www.vde-suedbayern.de
CREATED:20090209T174937
DTEND;TZID=Europe/Berlin:20090219T203000
END:VEVENT
END:VCALENDAR
