BEGIN:VCALENDAR
PRODID:-//Dr. Thomas Wagner\, TUM WWW & Online Services//myTUM Advanced Calendaring 0.1//DE
VERSION:2.0
METHOD:GET
BEGIN:VTIMEZONE
TZID:Europe/Berlin
BEGIN:STANDARD
DTSTART:20071028T010000
TZOFFSETTO:+0100
TZOFFSETFROM:+0000
TZNAME:CET
END:STANDARD
BEGIN:DAYLIGHT
TZOFFSETTO:+0200
TZOFFSETFROM:+0100
TZNAME:CEST
DTSTART:20080330T020000
END:DAYLIGHT
END:VTIMEZONE
BEGIN:VEVENT
SEQUENCE:1
TRANSP:OPAQUE
UID:termine_Event.2009-01-22.4518963405_portal.mytum.de
DTSTART;TZID=Europe/Berlin:20090311T093000
ORGANIZER;CN="Theresa Eitel":mailto:theresa.eitel@mytum.de
DTSTAMP:20260422T170433
LAST-MODIFIED:20090122T172025
CATEGORIES:WORKSHOP
SUMMARY:¡communicate! Executive Training: Change Communication - Veränderungen erfolgreich managen
DESCRIPTION:"Veränderung ist das, was die Leute am meisten fürchten." (Fjodor Dostojewskij)
CONTACT:Claudia Paul-Helten, Stephanie Brose
LOCATION:Schloss Auel bei Bonn
CLASS:PUBLIC
URL;VALUE=URL:https://portal.mytum.de/termine/Event.2009-01-22.4518963405
CREATED:20090122T150115
DTEND;TZID=Europe/Berlin:20090313T143000
END:VEVENT
END:VCALENDAR
