BEGIN:VCALENDAR
PRODID:-//Dr. Thomas Wagner\, TUM WWW & Online Services//myTUM Advanced Calendaring 0.1//DE
VERSION:2.0
METHOD:GET
BEGIN:VTIMEZONE
TZID:Europe/Berlin
BEGIN:STANDARD
DTSTART:20071028T010000
TZOFFSETTO:+0100
TZOFFSETFROM:+0000
TZNAME:CET
END:STANDARD
BEGIN:DAYLIGHT
TZOFFSETTO:+0200
TZOFFSETFROM:+0100
TZNAME:CEST
DTSTART:20080330T020000
END:DAYLIGHT
END:VTIMEZONE
BEGIN:VEVENT
SEQUENCE:1
TRANSP:OPAQUE
UID:termine_Event.2009-01-12.3873478531_portal.mytum.de
DTSTART;TZID=Europe/Berlin:20040115T180000
ORGANIZER;CN="Markus Bernards":mailto:markus.bernards@tum.de
DTSTAMP:20260424T005155
LAST-MODIFIED:20090112T191013
CATEGORIES:VORTRAG
SUMMARY:An Astronaut's Life
DESCRIPTION:In der Reihe „Foren der Luft- und Raumfahrt“ wird der US-amerikanische Astronaut James Voss am 15. Januar um 18 Uhr über das Leben als Astronauten sprechen: „An astronaut’s life“. Voss, Jahrgang 1949, war in seiner langen Karriere bei der amerikanischen Weltraumbehörde NASA auf vier Space-Shuttle-Missionen im Weltall und besuchte danach als Mitglied der zweiten Crew die Internationale Raumstation ISS. Im Anschluss an den englischen Vortrag von James Voss sind alle Besucher eingeladen, in gemütlicher Runde bei Bezeln und Bier die Thematik noch etwas zu vertiefen.
CONTACT:: Dipl.-Ing. Markus Wilde, Institute of Astronautics, Satellite Technology, TUM; Tel. 089-289 16016
LOCATION:Hörsaal MW 0001 (Gustav-Niemann-Hörsaal), Campus Garching
CLASS:PUBLIC
URL;VALUE=URL:https://portal.mytum.de/termine/Event.2009-01-12.3873478531
CREATED:20090112T190523
DTEND;TZID=Europe/Berlin:20040115T200000
END:VEVENT
END:VCALENDAR
