BEGIN:VCALENDAR
PRODID:-//Dr. Thomas Wagner\, TUM WWW & Online Services//myTUM Advanced Calendaring 0.1//DE
VERSION:2.0
METHOD:GET
BEGIN:VTIMEZONE
TZID:Europe/Berlin
BEGIN:STANDARD
DTSTART:20071028T010000
TZOFFSETTO:+0100
TZOFFSETFROM:+0000
TZNAME:CET
END:STANDARD
BEGIN:DAYLIGHT
TZOFFSETTO:+0200
TZOFFSETFROM:+0100
TZNAME:CEST
DTSTART:20080330T020000
END:DAYLIGHT
END:VTIMEZONE
BEGIN:VEVENT
SEQUENCE:1
TRANSP:OPAQUE
UID:termine_Event.2008-12-16.9630749247_portal.mytum.de
DTSTART;TZID=Europe/Berlin:20081217T140000
ORGANIZER;CN="Andreas Battenberg":mailto:battenberg@tum.de
DTSTAMP:20260421T082228
LAST-MODIFIED:20081216T150502
CATEGORIES:SOCIAL EVENT
SUMMARY:Physikalische Weihnachtsvorlesung
DESCRIPTION:Die Weihnachtsvorlesung wurde von Physik-Studenten aus dem 5. Semester im Lauf des letzten Jahres unter Betreuung von Herrn Kressierer und Herrn König von der Vorlesungsvorbereitung konzipiert. Die Vorlesung wird von den Freunden der Physik an der TUM e.V. und der Firma Lebkuchen-Schmidt (Nürnberg) gesponsert.
CONTACT: 
LOCATION:TU München, Campus Garching, Fakultät Mathematik/Informatik, Hörsaal 1
CLASS:PUBLIC
URL;VALUE=URL:https://portal.mytum.de/termine/Event.2008-12-16.9630749247
CREATED:20081216T150453
DTEND;TZID=Europe/Berlin:20081217T150000
END:VEVENT
END:VCALENDAR
