BEGIN:VCALENDAR
PRODID:-//Dr. Thomas Wagner\, TUM WWW & Online Services//myTUM Advanced Calendaring 0.1//DE
VERSION:2.0
METHOD:GET
BEGIN:VTIMEZONE
TZID:Europe/Berlin
BEGIN:STANDARD
DTSTART:20071028T010000
TZOFFSETTO:+0100
TZOFFSETFROM:+0000
TZNAME:CET
END:STANDARD
BEGIN:DAYLIGHT
TZOFFSETTO:+0200
TZOFFSETFROM:+0100
TZNAME:CEST
DTSTART:20080330T020000
END:DAYLIGHT
END:VTIMEZONE
BEGIN:VEVENT
SEQUENCE:1
TRANSP:OPAQUE
UID:termine_Event.2008-12-16.9106688454_portal.mytum.de
DTSTART;TZID=Europe/Berlin:20081217T131500
ORGANIZER;CN="Pfarrer Markus Hepp, e: markus.hepp@ehg-tum.de":mailto:markus.hepp@ehg-tum.de
DTSTAMP:20260425T013606
LAST-MODIFIED:20081216T103752
CATEGORIES:SOCIAL EVENT
SUMMARY:Adventsfeier mit dem Campus Chor Garching
DESCRIPTION:ESG und KHG laden ein zu weihnachtlicher Musik und Glühwein am Mittwoch, 17.12. um 13.15 Uhr in der Magistrale der Fakultät für Maschinenwesen, Halle 0. Es singt der Campus-Chor Garching.
CONTACT:Pfarrer Markus Hepp, e: markus.hepp@ehg-tum.de
LOCATION:TUM, Campus Garching, Fakultät für Maschinenwesen, Halle 0
CLASS:PUBLIC
URL;VALUE=URL:https://portal.mytum.de/termine/Event.2008-12-16.9106688454
CREATED:20081216T103743
DTEND;TZID=Europe/Berlin:20081217T140000
END:VEVENT
END:VCALENDAR
