BEGIN:VCALENDAR
PRODID:-//Dr. Thomas Wagner\, TUM WWW & Online Services//myTUM Advanced Calendaring 0.1//DE
VERSION:2.0
METHOD:GET
BEGIN:VTIMEZONE
TZID:Europe/Berlin
BEGIN:STANDARD
DTSTART:20071028T010000
TZOFFSETTO:+0100
TZOFFSETFROM:+0000
TZNAME:CET
END:STANDARD
BEGIN:DAYLIGHT
TZOFFSETTO:+0200
TZOFFSETFROM:+0100
TZNAME:CEST
DTSTART:20080330T020000
END:DAYLIGHT
END:VTIMEZONE
BEGIN:VEVENT
SEQUENCE:1
TRANSP:OPAQUE
UID:termine_Event.2008-12-07.4768604796_portal.mytum.de
DTSTART;TZID=Europe/Berlin:20081216T174500
ORGANIZER;CN="Andreas Battenberg":mailto:battenberg@tum.de
DTSTAMP:20260424T225201
LAST-MODIFIED:20081207T235307
CATEGORIES:VORTRAG
SUMMARY:Vielfalt der Sinne… Aufgemerkt! Aber wie?
DESCRIPTION:Aufgemerkt! Aber wie? Neurophysiologische Mechanismen hinter der Vorstellung von „Aufmerksamkeit“: „Hab’ ich zufällig gesehen“, sagen wir. Stimmt nicht, sagt Professor Stefan Treue (Göttingen). Der Neurophysiologe und Primatenforscher geht den neuronalen Strukturen nach, die unser Sehen bestimmen. Seine These: Aufmerksamkeit prägt die Wahrnehmungsvorgänge im Gehirn und deren Effizienz wesentlich, ohne sie sehen wir „nichts“, sie steuert unsere Sichtweise. Zwischen elektrophysiologischen Einsichten und gehirntheoretischen Folgerungen entsteht daraus ein spannender Diskurs.
CONTACT:Pfarrer Markus Hepp, www.ehg-tum.de/garching
LOCATION:Campus Garching, Fakultät für Maschinenwesen, Raum MW 1050
CLASS:PUBLIC
URL;VALUE=URL:https://portal.mytum.de/termine/Event.2008-12-07.4768604796
CREATED:20081207T234742
DTEND;TZID=Europe/Berlin:20081216T190000
END:VEVENT
END:VCALENDAR
