BEGIN:VCALENDAR
PRODID:-//Dr. Thomas Wagner\, TUM WWW & Online Services//myTUM Advanced Calendaring 0.1//DE
VERSION:2.0
METHOD:GET
BEGIN:VTIMEZONE
TZID:Europe/Berlin
BEGIN:STANDARD
DTSTART:20071028T010000
TZOFFSETTO:+0100
TZOFFSETFROM:+0000
TZNAME:CET
END:STANDARD
BEGIN:DAYLIGHT
TZOFFSETTO:+0200
TZOFFSETFROM:+0100
TZNAME:CEST
DTSTART:20080330T020000
END:DAYLIGHT
END:VTIMEZONE
BEGIN:VEVENT
SEQUENCE:1
TRANSP:OPAQUE
UID:termine_Event.2008-11-07.5267322411_portal.mytum.de
DTSTART;TZID=Europe/Berlin:20081114T160000
ORGANIZER;CN="Martin Maier":mailto:martin.maier@tum.de
DTSTAMP:20260420T121234
LAST-MODIFIED:20081107T104045
CATEGORIES:VORTRAG
SUMMARY:Kolloquium der Eduard-Rhein-Preisträger
CONTACT:Prof. Jörg Eberspächer
LOCATION;ALTREP="https://portal.mytum.de/displayRoomMap?roomid=0602@0506":Hörsaal 0602 (Theresianum)
CLASS:PUBLIC
URL;VALUE=URL:https://portal.mytum.de/termine/Event.2008-11-07.5267322411
CREATED:20081107T084523
DTEND;TZID=Europe/Berlin:20081114T180000
END:VEVENT
END:VCALENDAR
