BEGIN:VCALENDAR
PRODID:-//Dr. Thomas Wagner\, TUM WWW & Online Services//myTUM Advanced Calendaring 0.1//DE
VERSION:2.0
METHOD:GET
BEGIN:VTIMEZONE
TZID:Europe/Berlin
BEGIN:STANDARD
DTSTART:20071028T010000
TZOFFSETTO:+0100
TZOFFSETFROM:+0000
TZNAME:CET
END:STANDARD
BEGIN:DAYLIGHT
TZOFFSETTO:+0200
TZOFFSETFROM:+0100
TZNAME:CEST
DTSTART:20080330T020000
END:DAYLIGHT
END:VTIMEZONE
BEGIN:VEVENT
SEQUENCE:1
TRANSP:OPAQUE
UID:termine_Event.2008-10-14.4078821551_portal.mytum.de
DTSTART;TZID=Europe/Berlin:20081208T130000
ORGANIZER;CN="Andreas Printz":mailto:a.printz@tum.de
DTSTAMP:20260420T091406
LAST-MODIFIED:20081014T121429
CATEGORIES:TAGUNG
SUMMARY:Wildnis als Kulturaufgabe
DESCRIPTION:Tagung "Wildnis als Kulturaufgabe: Die Zukunft von Wildnis in der Landschaftsentwicklung und im Naturschutz" (08.-09.12.2008) vom 08.-09.Dezember 2008 in Freising; veranstaltet vom Lehrstuhl für Landschaftsökologie der TUM in Kooperation mit der Bayerischen Akademie für Naturschutz und Landschaftsplanung (ANL) 
LOCATION:Freising
CLASS:PUBLIC
URL;VALUE=URL:https://portal.mytum.de/termine/Event.2008-10-14.4078821551
ATTACH;VALUE=URI:http://www.anl.bayern.de/veranstaltungen/veranstaltungen_detail.htm?eid=45215097.471264485
CREATED:20081014T121420
DTEND;TZID=Europe/Berlin:20081209T170000
END:VEVENT
END:VCALENDAR
