BEGIN:VCALENDAR
PRODID:-//Dr. Thomas Wagner\, TUM WWW & Online Services//myTUM Advanced Calendaring 0.1//DE
VERSION:2.0
METHOD:GET
BEGIN:VTIMEZONE
TZID:Europe/Berlin
BEGIN:STANDARD
DTSTART:20071028T010000
TZOFFSETTO:+0100
TZOFFSETFROM:+0000
TZNAME:CET
END:STANDARD
BEGIN:DAYLIGHT
TZOFFSETTO:+0200
TZOFFSETFROM:+0100
TZNAME:CEST
DTSTART:20080330T020000
END:DAYLIGHT
END:VTIMEZONE
BEGIN:VEVENT
SEQUENCE:1
TRANSP:OPAQUE
UID:termine_Event.2008-10-08.6542692160_portal.mytum.de
DTSTART;TZID=Europe/Berlin:20081105T153000
ORGANIZER;CN="itg.fa-biomed.it@vde-online.de":mailto:itg.fa-biomed.it@vde-online.de
DTSTAMP:20260424T034533
LAST-MODIFIED:20081008T115453
CATEGORIES:WORKSHOP
SUMMARY:1. Workshop des ITG FA 9.3 – Biomedizinische Informationstechnik am 05. November 2008
CONTACT:itg.fa-biomed.it@vde-online.de
LOCATION:Großer Hörsaal des Zentralinstitut für Medizintechnik der TU München - IMETUM, Boltzmannstr. 11, D-85748 Garching
CLASS:PUBLIC
URL;VALUE=URL:https://portal.mytum.de/termine/Event.2008-10-08.6542692160
CREATED:20081008T114644
DTEND;TZID=Europe/Berlin:20081105T190000
END:VEVENT
END:VCALENDAR
