BEGIN:VCALENDAR
PRODID:-//Dr. Thomas Wagner\, TUM WWW & Online Services//myTUM Advanced Calendaring 0.1//DE
VERSION:2.0
METHOD:GET
BEGIN:VTIMEZONE
TZID:Europe/Berlin
BEGIN:STANDARD
DTSTART:20071028T010000
TZOFFSETTO:+0100
TZOFFSETFROM:+0000
TZNAME:CET
END:STANDARD
BEGIN:DAYLIGHT
TZOFFSETTO:+0200
TZOFFSETFROM:+0100
TZNAME:CEST
DTSTART:20080330T020000
END:DAYLIGHT
END:VTIMEZONE
BEGIN:VEVENT
SEQUENCE:1
TRANSP:OPAQUE
UID:termine_Event.2008-10-08.5732968035_portal.mytum.de
DTSTART;TZID=Europe/Berlin:20081128T140000
ORGANIZER;CN="Margot Wagner":mailto:Margot.Wagner@tum.de
DTSTAMP:20260422T190445
LAST-MODIFIED:20081008T150214
CATEGORIES:TAGUNG
SUMMARY:Bridging the GAP
CONTACT:Andrea Landherr
LOCATION:Garching, Boltzmannstr. 3, MI HS 1
CLASS:PUBLIC
URL;VALUE=URL:https://portal.mytum.de/termine/Event.2008-10-08.5732968035
CREATED:20081008T150206
DTEND;TZID=Europe/Berlin:20081128T180000
END:VEVENT
END:VCALENDAR
