BEGIN:VCALENDAR
PRODID:-//Dr. Thomas Wagner\, TUM WWW & Online Services//myTUM Advanced Calendaring 0.1//DE
VERSION:2.0
METHOD:GET
BEGIN:VTIMEZONE
TZID:Europe/Berlin
BEGIN:STANDARD
DTSTART:20071028T010000
TZOFFSETTO:+0100
TZOFFSETFROM:+0000
TZNAME:CET
END:STANDARD
BEGIN:DAYLIGHT
TZOFFSETTO:+0200
TZOFFSETFROM:+0100
TZNAME:CEST
DTSTART:20080330T020000
END:DAYLIGHT
END:VTIMEZONE
BEGIN:VEVENT
SEQUENCE:1
TRANSP:OPAQUE
UID:termine_Event.2008-10-02.1283106393_portal.mytum.de
DTSTART;TZID=Europe/Berlin:20081016T181500
ORGANIZER;CN="Caroline Goldammer":mailto:bieber@tum.de
DTSTAMP:20260419T172700
LAST-MODIFIED:20081002T145315
CATEGORIES:VORTRAG
SUMMARY:Bedeutung der Bauphysik - Einführung zur Veranstaltungsreihe ´Ausgewählte Kapitel der Bauphysik´
LOCATION:Stammgelände, HS 2760
CLASS:PUBLIC
URL;VALUE=URL:https://portal.mytum.de/termine/Event.2008-10-02.1283106393
CREATED:20081002T145152
DTEND;TZID=Europe/Berlin:20081016T194500
END:VEVENT
END:VCALENDAR
