BEGIN:VCALENDAR
PRODID:-//Dr. Thomas Wagner\, TUM WWW & Online Services//myTUM Advanced Calendaring 0.1//DE
VERSION:2.0
METHOD:GET
BEGIN:VTIMEZONE
TZID:Europe/Berlin
BEGIN:STANDARD
DTSTART:20071028T010000
TZOFFSETTO:+0100
TZOFFSETFROM:+0000
TZNAME:CET
END:STANDARD
BEGIN:DAYLIGHT
TZOFFSETTO:+0200
TZOFFSETFROM:+0100
TZNAME:CEST
DTSTART:20080330T020000
END:DAYLIGHT
END:VTIMEZONE
BEGIN:VEVENT
SEQUENCE:1
TRANSP:OPAQUE
UID:termine_Event.2008-09-29.9678888555_portal.mytum.de
DTSTART;TZID=Europe/Berlin:20081208T150000
ORGANIZER;CN="Christine Beese":mailto:christine.beese@tum.de
DTSTAMP:20260421T195727
LAST-MODIFIED:20080929T105137
CATEGORIES:VORTRAG
SUMMARY:From Functional Chromophores to Fluorescence Standards: Fluorescence Spectroscopy at BAM
CONTACT:Frau Glunz, Tel: 089/2180-78232
LOCATION:Seminarraum des Lehrstuhls für Analytische Chemie der TU München Marchinoninistr. 17/Großhadern
CLASS:PUBLIC
URL;VALUE=URL:https://portal.mytum.de/termine/Event.2008-09-29.9678888555
CREATED:20080929T104910
DTEND;TZID=Europe/Berlin:20081208T170000
END:VEVENT
END:VCALENDAR
