BEGIN:VCALENDAR
PRODID:-//Dr. Thomas Wagner\, TUM WWW & Online Services//myTUM Advanced Calendaring 0.1//DE
VERSION:2.0
METHOD:GET
BEGIN:VTIMEZONE
TZID:Europe/Berlin
BEGIN:STANDARD
DTSTART:20071028T010000
TZOFFSETTO:+0100
TZOFFSETFROM:+0000
TZNAME:CET
END:STANDARD
BEGIN:DAYLIGHT
TZOFFSETTO:+0200
TZOFFSETFROM:+0100
TZNAME:CEST
DTSTART:20080330T020000
END:DAYLIGHT
END:VTIMEZONE
BEGIN:VEVENT
SEQUENCE:1
TRANSP:OPAQUE
UID:termine_Event.2008-07-15.9545597625_portal.mytum.de
DTSTART;TZID=Europe/Berlin:20080902T150000
ORGANIZER;CN="Christine Beese":mailto:christine.beese@tum.de
DTSTAMP:20260423T211121
LAST-MODIFIED:20080715T133526
CATEGORIES:VORTRAG
SUMMARY:Biosensing with Molecular Imprints and Diamond-based Platform Materials
CONTACT:Frau Glunz, Tel: 089/2180-78232
LOCATION:Seminarraum des Lehrstuhls für Analytische Chemie der TU München, Marchioninistr. 17/Großhadern
CLASS:PUBLIC
URL;VALUE=URL:https://portal.mytum.de/termine/Event.2008-07-15.9545597625
CREATED:20080715T133213
DTEND;TZID=Europe/Berlin:20080902T170000
END:VEVENT
END:VCALENDAR
