BEGIN:VCALENDAR
PRODID:-//Dr. Thomas Wagner\, TUM WWW & Online Services//myTUM Advanced Calendaring 0.1//DE
VERSION:2.0
METHOD:GET
BEGIN:VTIMEZONE
TZID:Europe/Berlin
BEGIN:STANDARD
DTSTART:20071028T010000
TZOFFSETTO:+0100
TZOFFSETFROM:+0000
TZNAME:CET
END:STANDARD
BEGIN:DAYLIGHT
TZOFFSETTO:+0200
TZOFFSETFROM:+0100
TZNAME:CEST
DTSTART:20080330T020000
END:DAYLIGHT
END:VTIMEZONE
BEGIN:VEVENT
SEQUENCE:1
TRANSP:OPAQUE
UID:termine_Event.2008-07-01.2531812493_portal.mytum.de
DTSTART;TZID=Europe/Berlin:20080722T090000
ORGANIZER;CN="luce@tum.de":mailto:luce@tum.de
DTSTAMP:20260424T105415
LAST-MODIFIED:20080701T154801
CATEGORIES:VORTRAG
SUMMARY:Schlußkritik - Montafon - Architektur macht Gäste
DESCRIPTION:Konzepte für einen Tourismus der Sinngesellschaft, Ideen für nicht mehr funktionierende traditionelle alpine Kulturlandschaften und die Ansprüche der Montafoner an ihren Talraum waren die Themen, die im Winter in räumliche Szenarien übersetzt wurden. Im Sommer wurden die räumlichen Ansätze zu Siedlungsstruktur, Tourismus und Infrastruktur programmatisch überprüft und in Masstabsebenen von 1:10000 bis 1:20 präzisiert.
CONTACT:luce@tum.de
LOCATION:3242, (http://portal.mytum.de/displayRoomMap?3242@0502)
CLASS:PUBLIC
URL;VALUE=URL:https://portal.mytum.de/termine/Event.2008-07-01.2531812493
CREATED:20080701T154759
DTEND;TZID=Europe/Berlin:20080722T110000
END:VEVENT
END:VCALENDAR
