BEGIN:VCALENDAR
PRODID:-//Dr. Thomas Wagner\, TUM WWW & Online Services//myTUM Advanced Calendaring 0.1//DE
VERSION:2.0
METHOD:GET
BEGIN:VTIMEZONE
TZID:Europe/Berlin
BEGIN:STANDARD
DTSTART:20071028T010000
TZOFFSETTO:+0100
TZOFFSETFROM:+0000
TZNAME:CET
END:STANDARD
BEGIN:DAYLIGHT
TZOFFSETTO:+0200
TZOFFSETFROM:+0100
TZNAME:CEST
DTSTART:20080330T020000
END:DAYLIGHT
END:VTIMEZONE
BEGIN:VEVENT
SEQUENCE:1
TRANSP:OPAQUE
UID:termine_Event.2008-06-12.3352024894_portal.mytum.de
DTSTART;TZID=Europe/Berlin:20080624T091500
ORGANIZER;CN="luce@tum.de":mailto:luce@tum.de
DTSTAMP:20260420T074525
LAST-MODIFIED:20080612T172523
CATEGORIES:VORTRAG
SUMMARY:3 Weingüter
CONTACT:luce@tum.de
LOCATION:2370
CLASS:PUBLIC
URL;VALUE=URL:https://portal.mytum.de/termine/Event.2008-06-12.3352024894
CREATED:20080612T172523
DTEND;TZID=Europe/Berlin:20080624T110000
END:VEVENT
END:VCALENDAR
