BEGIN:VCALENDAR
PRODID:-//Dr. Thomas Wagner\, TUM WWW & Online Services//myTUM Advanced Calendaring 0.1//DE
VERSION:2.0
METHOD:GET
BEGIN:VTIMEZONE
TZID:Europe/Berlin
BEGIN:STANDARD
DTSTART:20071028T010000
TZOFFSETTO:+0100
TZOFFSETFROM:+0000
TZNAME:CET
END:STANDARD
BEGIN:DAYLIGHT
TZOFFSETTO:+0200
TZOFFSETFROM:+0100
TZNAME:CEST
DTSTART:20080330T020000
END:DAYLIGHT
END:VTIMEZONE
BEGIN:VEVENT
SEQUENCE:1
TRANSP:OPAQUE
UID:termine_Event.2008-06-02.4176178090_portal.mytum.de
DTSTART;TZID=Europe/Berlin:20080613T110000
ORGANIZER;CN="Barbara Zenkert":mailto:zenkert@tum.de
DTSTAMP:20260423T210431
LAST-MODIFIED:20080602T132056
CATEGORIES:VORTRAG
SUMMARY:“Life Sciences live am IMETUM” - Das IMETUM und der Heinz Nixdorf-Lehrstuhl für Medizinische Elektronik geben Einblicke in aktuelle Forschungsarbeiten
DESCRIPTION:Wir möchten alle Studierende, insbesondere die der Lebens- und Ingenieurswissenschaften, sowie der naturwissenschaftlichen und medizinischen Fakultäten, einladen sich am IMETUM über die dortigen Möglichkeiten der interdisziplinären Arbeitsgebiete zwischen bioelektronischen Testsystemen, Biophysik, Zellbiologie und Medizin zu informieren. In Vorträgen, Demonstrationen und Gesprächen mit WissenschaftlerInnen und StudentInnen, die hier für ihr Studium an Forschungsprojekten mitarbeiten, sollen Einblicke in die laufende sowie zukünftige Forschungsthemen, sowie die Lehrveranstaltungen vor Ort vermittelt werden.
LOCATION:IMETUM - Garching
CLASS:PUBLIC
URL;VALUE=URL:https://portal.mytum.de/termine/Event.2008-06-02.4176178090
ATTACH;VALUE=URI:http://www.lifescience.imetum.de
CREATED:20080602T120803
DTEND;TZID=Europe/Berlin:20080613T160000
END:VEVENT
END:VCALENDAR
