BEGIN:VCALENDAR
PRODID:-//Dr. Thomas Wagner\, TUM WWW & Online Services//myTUM Advanced Calendaring 0.1//DE
VERSION:2.0
METHOD:GET
BEGIN:VTIMEZONE
TZID:Europe/Berlin
BEGIN:STANDARD
DTSTART:20071028T010000
TZOFFSETTO:+0100
TZOFFSETFROM:+0000
TZNAME:CET
END:STANDARD
BEGIN:DAYLIGHT
TZOFFSETTO:+0200
TZOFFSETFROM:+0100
TZNAME:CEST
DTSTART:20080330T020000
END:DAYLIGHT
END:VTIMEZONE
BEGIN:VEVENT
SEQUENCE:1
TRANSP:OPAQUE
UID:termine_Event.2008-05-23.4327058008_portal.mytum.de
DTSTART;TZID=Europe/Berlin:20080526T141500
ORGANIZER;CN="luce@tum.de":mailto:luce@tum.de
DTSTAMP:20260423T193709
LAST-MODIFIED:20080523T104448
CATEGORIES:VORTRAG
SUMMARY:Emerging forms of governance for the city regions on England
DESCRIPTION:Enduring change or a spatio-temporal fix? Der englische Planer Kevin Thomas erläutert in seinem Vortrag die Entwicklungen, die zu einer Ausweisung von Wachstumsregionen in England führten. Beispiele sind der Thames Gateway und Milton Keynes.
CONTACT:luce@tum.de
LOCATION;ALTREP="https://portal.mytum.de/displayRoomMap?roomid=2300@0503":2300@0503, FRIEDRICH VON THIERSCH HÖRSAAL, Gebäude 0503
CLASS:PUBLIC
URL;VALUE=URL:https://portal.mytum.de/termine/Event.2008-05-23.4327058008
CREATED:20080523T104446
DTEND;TZID=Europe/Berlin:20080526T160000
END:VEVENT
END:VCALENDAR
