BEGIN:VCALENDAR
PRODID:-//Dr. Thomas Wagner\, TUM WWW & Online Services//myTUM Advanced Calendaring 0.1//DE
VERSION:2.0
METHOD:GET
BEGIN:VTIMEZONE
TZID:Europe/Berlin
BEGIN:STANDARD
DTSTART:20071028T010000
TZOFFSETTO:+0100
TZOFFSETFROM:+0000
TZNAME:CET
END:STANDARD
BEGIN:DAYLIGHT
TZOFFSETTO:+0200
TZOFFSETFROM:+0100
TZNAME:CEST
DTSTART:20080330T020000
END:DAYLIGHT
END:VTIMEZONE
BEGIN:VEVENT
SEQUENCE:1
TRANSP:OPAQUE
UID:termine_Event.2008-05-14.6030127123_portal.mytum.de
DTSTART;TZID=Europe/Berlin:20080602T091500
ORGANIZER;CN="Gisela Twietmeyer":mailto:84CD1F57AEB93EB4@mytum.de
DTSTAMP:20260425T042209
LAST-MODIFIED:20080514T141704
CATEGORIES:VORTRAG
SUMMARY:20 Jahre Mikrofluidik - Und wo bleibt die Killer-Applikation?
CONTACT:Dipl.-Phys. Ulla Knipper
LOCATION:TUM Lehrstuhl für Technische Elektrophysik , Theresienstr. 90, Geb. N4, Raum N1414
CLASS:PUBLIC
URL;VALUE=URL:https://portal.mytum.de/termine/Event.2008-05-14.6030127123
CREATED:20080514T141703
DTEND;TZID=Europe/Berlin:20080602T110000
END:VEVENT
END:VCALENDAR
