BEGIN:VCALENDAR
PRODID:-//Dr. Thomas Wagner\, TUM WWW & Online Services//myTUM Advanced Calendaring 0.1//DE
VERSION:2.0
METHOD:GET
BEGIN:VTIMEZONE
TZID:Europe/Berlin
BEGIN:STANDARD
DTSTART:20071028T010000
TZOFFSETTO:+0100
TZOFFSETFROM:+0000
TZNAME:CET
END:STANDARD
BEGIN:DAYLIGHT
TZOFFSETTO:+0200
TZOFFSETFROM:+0100
TZNAME:CEST
DTSTART:20080330T020000
END:DAYLIGHT
END:VTIMEZONE
BEGIN:VEVENT
SEQUENCE:1
TRANSP:OPAQUE
UID:termine_Event.2008-05-08.8800351154_portal.mytum.de
DTSTART;TZID=Europe/Berlin:20080603T171500
ORGANIZER;CN="Klaus-Dieter Reinsch":mailto:klaus-dieter.reinsch@tum.de
DTSTAMP:20260424T012856
LAST-MODIFIED:20080508T172033
CATEGORIES:VORTRAG
SUMMARY:Die Bochner-Schoenberg-Eberlein Eigenschaft für kommutative Banachalgebren
CONTACT:Dr. Klaus-Dieter Reinsch
LOCATION:Raum: M/I HS 3 ( = 00.06.011), Garching, Boltzmannstr. 3
CLASS:PUBLIC
URL;VALUE=URL:https://portal.mytum.de/termine/Event.2008-05-08.8800351154
ATTACH;VALUE=URI:http://mathcal.ma.tum.de/?rname_0=TUM___FakKoll
CREATED:20080508T172022
DTEND;TZID=Europe/Berlin:20080603T171500
END:VEVENT
END:VCALENDAR
