BEGIN:VCALENDAR
PRODID:-//Dr. Thomas Wagner\, TUM WWW & Online Services//myTUM Advanced Calendaring 0.1//DE
VERSION:2.0
METHOD:GET
BEGIN:VTIMEZONE
TZID:Europe/Berlin
BEGIN:STANDARD
DTSTART:20071028T010000
TZOFFSETTO:+0100
TZOFFSETFROM:+0000
TZNAME:CET
END:STANDARD
BEGIN:DAYLIGHT
TZOFFSETTO:+0200
TZOFFSETFROM:+0100
TZNAME:CEST
DTSTART:20080330T020000
END:DAYLIGHT
END:VTIMEZONE
BEGIN:VEVENT
SEQUENCE:1
TRANSP:OPAQUE
UID:termine_Event.2008-05-07.2675934307_portal.mytum.de
DTSTART;TZID=Europe/Berlin:20080627T170000
ORGANIZER;CN="Astrid Schaumlöffel, Tel: 089-289.22705 schaumloeffel@zv.tum.de":mailto:schaumloeffel@zv.tum.de
DTSTAMP:20260423T211040
LAST-MODIFIED:20080507T160548
CATEGORIES:SOCIAL EVENT
SUMMARY:Vorlesung der KinderUni: Eine Reise durch den Körper - Wie sieht´s in deinem Innern aus?
DESCRIPTION:„Wie siehts in deinem Körper aus?“ „Was hat Nemo mit Mathematik zu tun?“ und „Wie funktioniert das Internet?“ Diese und andere Fragen werden an der TUM im Sommersemester 2008 für Studentinnen und Studenten der KinderUni beantwortet. Teilnehmen können – natürlich kostenlos – Mädchen und Jungen im Alter von 8 bis 12 Jahren. Für Studenten-, Alumni- und Mitarbeiterkinder der TUM gibt es ein Ticket-Sonderkontingent – solange Vorrat reicht! Einfach Mail an: presse@tum.de mit Terminwunsch sowie Name und Alter des Kindes. Reservierungen sind möglich ab 5. Mai 2008.
CONTACT:Astrid Schaumlöffel, Tel: 089-289.22705 schaumloeffel@zv.tum.de
LOCATION;ALTREP="https://portal.mytum.de/displayRoomMap?roomid=0980@0509":Auditorium Maximum, TU München, Arcisstraße 21, 80333 München
CLASS:PUBLIC
URL;VALUE=URL:https://portal.mytum.de/termine/Event.2008-05-07.2675934307
ATTACH;VALUE=URI:http://www.kinderuni-muenchen.de
CREATED:20080507T160545
DTEND;TZID=Europe/Berlin:20080627T180000
END:VEVENT
END:VCALENDAR
