BEGIN:VCALENDAR
PRODID:-//Dr. Thomas Wagner\, TUM WWW & Online Services//myTUM Advanced Calendaring 0.1//DE
VERSION:2.0
METHOD:GET
BEGIN:VTIMEZONE
TZID:Europe/Berlin
BEGIN:STANDARD
DTSTART:20071028T010000
TZOFFSETTO:+0100
TZOFFSETFROM:+0000
TZNAME:CET
END:STANDARD
BEGIN:DAYLIGHT
TZOFFSETTO:+0200
TZOFFSETFROM:+0100
TZNAME:CEST
DTSTART:20080330T020000
END:DAYLIGHT
END:VTIMEZONE
BEGIN:VEVENT
SEQUENCE:1
TRANSP:OPAQUE
UID:termine_Event.2008-04-24.7918514606_portal.mytum.de
DTSTART;TZID=Europe/Berlin:20080527T160000
ORGANIZER;CN="Duygu Brandstetter :: duygu.brandstetter@mw.tum.de":mailto:duygu.brandstetter@mw.tum.de
DTSTAMP:20260421T082218
LAST-MODIFIED:20080424T131336
CATEGORIES:VORTRAG
SUMMARY:Vortragsreihe "Ingenieure in der Praxis"
DESCRIPTION:“Technologien für eine saubere Zukunft“
CONTACT:Duygu Brandstetter :: duygu.brandstetter@mw.tum.de
LOCATION:Garching, Fakultät für Maschinenwesen, MW 0250
CLASS:PUBLIC
URL;VALUE=URL:https://portal.mytum.de/termine/Event.2008-04-24.7918514606
CREATED:20080424T131336
DTEND;TZID=Europe/Berlin:20080527T190000
END:VEVENT
END:VCALENDAR
