BEGIN:VCALENDAR
PRODID:-//Dr. Thomas Wagner\, TUM WWW & Online Services//myTUM Advanced Calendaring 0.1//DE
VERSION:2.0
METHOD:GET
BEGIN:VTIMEZONE
TZID:Europe/Berlin
BEGIN:STANDARD
DTSTART:20071028T010000
TZOFFSETTO:+0100
TZOFFSETFROM:+0000
TZNAME:CET
END:STANDARD
BEGIN:DAYLIGHT
TZOFFSETTO:+0200
TZOFFSETFROM:+0100
TZNAME:CEST
DTSTART:20080330T020000
END:DAYLIGHT
END:VTIMEZONE
BEGIN:VEVENT
SEQUENCE:1
TRANSP:OPAQUE
UID:termine_Event.2008-03-19.6620348654_portal.mytum.de
DTSTART;TZID=Europe/Berlin:20080416T183000
ORGANIZER;CN="luce@tum.de":mailto:luce@tum.de
DTSTAMP:20260424T115607
LAST-MODIFIED:20080319T164354
CATEGORIES:VORTRAG
SUMMARY:Asia Agenda
DESCRIPTION:Ole Scheeren ist Direktor des Office for Metropolitan Architecture von Rem Koolhaas in Peking. In dem Vortrag Asia Agenda präsentiert Ole Scheeren sein aktuelles im neuen Geschäftsviertel von Peking entstehendes Projekt CCTC. Dieser Bau zählt zu den spektakulärsten Architekturprojekten weltweit.
CONTACT:luce@tum.de
LOCATION:Ernst von Siemens-Auditorium
CLASS:PUBLIC
URL;VALUE=URL:https://portal.mytum.de/termine/Event.2008-03-19.6620348654
CREATED:20080319T164343
DTEND;TZID=Europe/Berlin:20080416T200000
END:VEVENT
END:VCALENDAR
