BEGIN:VCALENDAR
PRODID:-//Dr. Thomas Wagner\, TUM WWW & Online Services//myTUM Advanced Calendaring 0.1//DE
VERSION:2.0
METHOD:GET
BEGIN:VTIMEZONE
TZID:Europe/Berlin
BEGIN:STANDARD
DTSTART:20071028T010000
TZOFFSETTO:+0100
TZOFFSETFROM:+0000
TZNAME:CET
END:STANDARD
BEGIN:DAYLIGHT
TZOFFSETTO:+0200
TZOFFSETFROM:+0100
TZNAME:CEST
DTSTART:20080330T020000
END:DAYLIGHT
END:VTIMEZONE
BEGIN:VEVENT
SEQUENCE:1
TRANSP:OPAQUE
UID:termine_Event.2008-02-27.1169100541_portal.mytum.de
DTSTART;TZID=Europe/Berlin:20060227T180000
ORGANIZER;CN="Erika Mustermann":mailto:bla2foo@mytum.de
DTSTAMP:20260421T152321
LAST-MODIFIED:20080227T180929
SUMMARY:Testtermin
CLASS:PUBLIC
URL;VALUE=URL:https://portal.mytum.de/termine/Event.2008-02-27.1169100541
CREATED:20080227T180921
DTEND;TZID=Europe/Berlin:20060227T180000
END:VEVENT
END:VCALENDAR
